BEGIN:VCALENDAR
VERSION:2.0
PRODID:-//wp-events-plugin.com//7.2.3.1//EN
TZID:America/Chicago
X-WR-TIMEZONE:America/Chicago
BEGIN:VEVENT
UID:3528@uuccpf.org
DTSTART:20201122T100000Z
DTEND:20201122T110000Z
DTSTAMP:20201029T000212Z
URL:https://www.uuccpf.org/events/uucc-online-sunday-service-a-meditation-
 on-making-a-life/
SUMMARY:UUCC Online Sunday Service - “A Meditation on Making a Life” 
DESCRIPTION:November 22nd\n\n“A Meditation on Making a Life”  \n\nBy:
   Reverend Denise Tracy\n\nHow do we look forward during these times and 
 order our priorities? How can we store up our blessings so that during the
  next few months of winter isolation we can create the life we need and st
 rengthen for the future?\n\n&nbsp\;
CATEGORIES:Sunday Services
END:VEVENT
END:VCALENDAR