BEGIN:VCALENDAR
VERSION:2.0
PRODID:-//wp-events-plugin.com//7.2.3.1//EN
TZID:America/Chicago
X-WR-TIMEZONE:America/Chicago
BEGIN:VEVENT
UID:4070@uuccpf.org
DTSTART;TZID=America/Chicago:20230704T190000
DTEND;TZID=America/Chicago:20230704T210000
DTSTAMP:20230503T010109Z
URL:https://www.uuccpf.org/events/uucc-mens-group-2023-07-04/
SUMMARY:UUCC Men's Group
DESCRIPTION:Currently meeting mainly via Zoom.\nUUCC Men's Group welcomes a
 nyone to participate who identifies as male. We gather together for suppor
 t\, to share our spiritual and emotional thoughts and experiences\, and to
  establish friendships. There will be in-depth check-ins followed by discu
 ssion of the topic of the month. For those who have not participated befor
 e\, contact Allan Lindrup at uusj@sbcglobal.net or 773-595-4921\, to recei
 ve the invitation and Zoom codes.
CATEGORIES:Ongoing
END:VEVENT
BEGIN:VTIMEZONE
TZID:America/Chicago
X-LIC-LOCATION:America/Chicago
BEGIN:DAYLIGHT
DTSTART:20230312T030000
TZOFFSETFROM:-0600
TZOFFSETTO:-0500
TZNAME:CDT
END:DAYLIGHT
END:VTIMEZONE
END:VCALENDAR