BEGIN:VCALENDAR
VERSION:2.0
PRODID:-//wp-events-plugin.com//7.2.3.1//EN
TZID:America/Chicago
X-WR-TIMEZONE:America/Chicago
BEGIN:VEVENT
UID:3486@uuccpf.org
DTSTART:20200708T130000Z
DTEND:20200708T143000Z
DTSTAMP:20200629T195517Z
URL:https://www.uuccpf.org/events/uucc-connections-group-online-meetup/
SUMMARY:UUCC Connections Group Online Meetup
DESCRIPTION:Connections Group\n\nConnections groups provide a space to shar
 e your perspectives and experiences\, learn about and support each other\,
  and discover what we have in common. All are welcome to attend\, whether 
 church members or not. Come join us!\n\nTHIS GROUP IS MEETING on July 8th 
 and July 22nd at 1pm by Zoom. Contact Irene\n\ntulip51girl@gmail.com\n\n&n
 bsp\;
END:VEVENT
END:VCALENDAR