BEGIN:VCALENDAR
VERSION:2.0
PRODID:-//wp-events-plugin.com//7.2.3.1//EN
TZID:America/Chicago
X-WR-TIMEZONE:America/Chicago
BEGIN:VEVENT
UID:3621@uuccpf.org
DTSTART:20210210T130000Z
DTEND:20210210T143000Z
DTSTAMP:20210131T202051Z
URL:https://www.uuccpf.org/events/uucc-connections-group-online-4/
SUMMARY:UUCC Connections Group Online
DESCRIPTION:Connections groups provide a space to share your perspectives a
 nd experiences\, learn about and support each other\, and discover what we
  have in common.\n\nThis group meets online at 1pm\n\nFebruary 10th and 24
 th\n\nFor more info contact Irene at:\n\ntulipgirl51@gmail.com\n\n&nbsp\;
END:VEVENT
END:VCALENDAR