BEGIN:VCALENDAR
VERSION:2.0
PRODID:-//wp-events-plugin.com//7.2.3.1//EN
TZID:America/Chicago
X-WR-TIMEZONE:America/Chicago
BEGIN:VEVENT
UID:3648@uuccpf.org
DTSTART:20210411T113000Z
DTEND:20210411T123000Z
DTSTAMP:20210331T205923Z
URL:https://www.uuccpf.org/events/uu-connect-uuccs-green-sanctuary-group/
SUMMARY:UU Connect - UUCC's Green Sanctuary Group
DESCRIPTION:Forums in April\n\nApril 11 -- UU Connect - UUCC's Green Sanctu
 ary Group sponsor's the following forum for the month of Earth Day. Jeff G
 reen will speak about Clean (aka Green) Hydrogen.\n\nApril 25 - Richard Or
 am will introduce us to The Kebra Nagast\, the national epic of Ethiopia\,
  and invite a discussion on its meaning for all people.\n\n&nbsp\;
END:VEVENT
END:VCALENDAR