BEGIN:VCALENDAR
VERSION:2.0
PRODID:-//wp-events-plugin.com//7.2.3.1//EN
TZID:America/Chicago
X-WR-TIMEZONE:America/Chicago
BEGIN:VEVENT
UID:3116@uuccpf.org
DTSTART:20190908T100000Z
DTEND:20190908T111500Z
DTSTAMP:20190825T192930Z
URL:https://www.uuccpf.org/events/the-story-of-the-story-for-all-ages-by-r
 ev-denise-tracy/
SUMMARY:The Story of the Story for All Ages by Rev. Denise Tracy
DESCRIPTION:Title: "The Story of the Story for All Ages" \n\nBy Reverend De
 nise Tracy\n\nHow did this element of worship begin? What was its purpose?
  In this service I will go back to its beginning in 1976 and talk about th
 e where\, the why and the how. There will be a time for discussion for tho
 se who are interested after the service.\n\n&nbsp\;
CATEGORIES:Sunday Services
LOCATION:UUCC\, 70 Sycamore Drive\, Park Forest\, IL\, 60466\, United State
 s
GEO:41.463982;-87.669754
X-APPLE-STRUCTURED-LOCATION;VALUE=URI;X-ADDRESS=70 Sycamore Drive\, Park Fo
 rest\, IL\, 60466\, United States;X-APPLE-RADIUS=100;X-TITLE=UUCC:geo:41.4
 63982,-87.669754
END:VEVENT
END:VCALENDAR