BEGIN:VCALENDAR
VERSION:2.0
PRODID:-//wp-events-plugin.com//7.2.3.1//EN
TZID:America/Chicago
X-WR-TIMEZONE:America/Chicago
BEGIN:VEVENT
UID:2786@uuccpf.org
DTSTART:20181230T100000Z
DTEND:20181231T111500Z
DTSTAMP:20181130T175444Z
URL:https://www.uuccpf.org/events/the-oration-of-pericles-by-richard-oram/
SUMMARY:The Oration of Pericles by Richard Oram
DESCRIPTION:December 30th\n\nTitle:  The Oration of Pericles\n\nBy Richard
  Oram\n\n&nbsp\;
CATEGORIES:Sunday Services
LOCATION:Trinity Lutheran Church\, 2901 Western Ave\, Park Forest\, IL\, Un
 ited States
GEO:41.486937;-87.67361499999998
X-APPLE-STRUCTURED-LOCATION;VALUE=URI;X-ADDRESS=2901 Western Ave\, Park For
 est\, IL\, United States;X-APPLE-RADIUS=100;X-TITLE=Trinity Lutheran Churc
 h:geo:41.486937,-87.67361499999998
END:VEVENT
END:VCALENDAR