BEGIN:VCALENDAR
VERSION:2.0
PRODID:-//wp-events-plugin.com//7.2.3.1//EN
TZID:America/Chicago
X-WR-TIMEZONE:America/Chicago
BEGIN:VEVENT
UID:3680@uuccpf.org
DTSTART:20210704T100000Z
DTEND:20210704T111500Z
DTSTAMP:20210630T153022Z
URL:https://www.uuccpf.org/events/the-myths-of-july-4th-by-arny-stieber/
SUMMARY:“The Myths of July 4th” by:  Arny Stieber
DESCRIPTION:July 4th\n\n“The Myths of July 4th”\n\nBy:  Arny Stieber\n
 \nJuly 4th is celebrated as freedom day. The signers of the Declaration o
 f Independence declared that "all men are created equal\, that they are en
 dowed by their Creator with certain unalienable Rights\, that among these 
 are Life\, Liberty and the pursuit of Happiness." The talk will discuss t
 he realities of the July 4th Declaration and the ongoing hypocrisy of the 
 "greatest country in the world".\n\n&nbsp\;
CATEGORIES:Sunday Services
END:VEVENT
END:VCALENDAR