BEGIN:VCALENDAR
VERSION:2.0
PRODID:-//wp-events-plugin.com//7.2.3.1//EN
TZID:America/Chicago
X-WR-TIMEZONE:America/Chicago
BEGIN:VEVENT
UID:2303@uuccpf.org
DTSTART:20180216T183000Z
DTEND:20180216T223000Z
DTSTAMP:20180216T024137Z
URL:https://www.uuccpf.org/events/rainbow-cafe-presents-get-real/
SUMMARY:Rainbow Cafe IS CANCELLED DUE TO UNEXPECTED FLOODING
DESCRIPTION:&nbsp\;\n\nRainbow Cafe has been cancelled. Unexpected flooding
  of the church has forced us to cancel this month's screening of "Get Real
 ". The movie has been rescheduled for September.\n\n&nbsp\;
LOCATION:UUCC\, 70 Sycamore Drive\, Park Forest\, IL\, 60466\, United State
 s
GEO:41.463982;-87.669754
X-APPLE-STRUCTURED-LOCATION;VALUE=URI;X-ADDRESS=70 Sycamore Drive\, Park Fo
 rest\, IL\, 60466\, United States;X-APPLE-RADIUS=100;X-TITLE=UUCC:geo:41.4
 63982,-87.669754
END:VEVENT
END:VCALENDAR