BEGIN:VCALENDAR
VERSION:2.0
PRODID:-//wp-events-plugin.com//7.2.3.1//EN
TZID:America/Chicago
X-WR-TIMEZONE:America/Chicago
BEGIN:VEVENT
UID:2189@uuccpf.org
DTSTART:20170616T183000Z
DTEND:20170616T223000Z
DTSTAMP:20170528T050606Z
URL:https://www.uuccpf.org/events/rainbow-cafe-movie-shown-pride/
SUMMARY:Rainbow Cafe  - Movie shown: Pride
DESCRIPTION:Rainbow Cafe is a social event that  provides a safe and welco
 ming environment for single or partnered gay\, lesbian\, bisexual\, and tr
 ansgender adults and their allies\, by creating a space where they are abl
 e to socialize outside of the usual bars. The Café is open every 3rd Frid
 ay of the month from 6:30-10:30 pm.\n\nThis month’s Rainbow Café meets 
 on June 16th. Movie shown will be “Pride”\n\nPRIDE is inspired by an 
 extraordinary true story. It's the summer of 1984\, Margaret Thatcher is i
 n power and the National Union of Mineworkers is on strike\, prompting a L
 ondon-based group of gay and lesbian activists to raise money to support t
 he strikers' families. Initially rebuffed by the Union\, the group identif
 ies a tiny mining village in Wales and sets off to make their donation in 
 person. As the strike drags on\, the two groups discover that standing tog
 ether makes for the strongest union of all.\n\n&nbsp\;
LOCATION:UUCC\, 70 Sycamore Drive\, Park Forest\, IL\, 60466\, United State
 s
GEO:41.463982;-87.669754
X-APPLE-STRUCTURED-LOCATION;VALUE=URI;X-ADDRESS=70 Sycamore Drive\, Park Fo
 rest\, IL\, 60466\, United States;X-APPLE-RADIUS=100;X-TITLE=UUCC:geo:41.4
 63982,-87.669754
END:VEVENT
END:VCALENDAR