BEGIN:VCALENDAR
VERSION:2.0
PRODID:-//wp-events-plugin.com//7.2.3.1//EN
TZID:America/Chicago
X-WR-TIMEZONE:America/Chicago
BEGIN:VEVENT
UID:3483@uuccpf.org
DTSTART:20200712T100000Z
DTEND:20200712T110000Z
DTSTAMP:20200629T194852Z
URL:https://www.uuccpf.org/events/online-sunday-service-jubilation/
SUMMARY:Online Sunday Service: Jubilation
DESCRIPTION:By: Marcia Curtis\n\nJuneteenth celebrated the joy the slaves f
 elt when they were free. But then came great hardships. How is it that the
  slaves adopted the religion of their white owners\, and how has that reli
 gion sustained African Americans through such times of sorrow?\n\n&nbsp\;\
 n\n&nbsp\;
CATEGORIES:Sunday Services
END:VEVENT
END:VCALENDAR