BEGIN:VCALENDAR
VERSION:2.0
PRODID:-//wp-events-plugin.com//7.2.3.1//EN
TZID:America/Chicago
X-WR-TIMEZONE:America/Chicago
BEGIN:VEVENT
UID:2892@uuccpf.org
DTSTART:20190405T180000Z
DTEND:20190405T200000Z
DTSTAMP:20190401T195954Z
URL:https://www.uuccpf.org/events/monthly-drumming-circle-returns/
SUMMARY:Monthly Drumming Circle Returns
DESCRIPTION:Rainbow Tree Healing Arts is now hosting their monthly communit
 y drum circles at Unitarian Universalist Community Church of Park Forest! 
 Bring your drums\, rattles or any other percussion instrument and join us 
 for our monthly healing community drum circle! Extra instruments will be p
 rovided if you don't have one. All ages are welcome! A love donation of $5
  is greatly appreciated. All donations will go to UUCCPF and the Rainbow T
 ree fund. This circle is led by Karilynn Vicari of Rainbow Tree Healing Ar
 ts. Karilynn is a member of UUCCPF. She is an artist\, writer\, shamanic p
 ractitioner\, and the founder of Rainbow Tree Healing Arts.
CATEGORIES:Spotlight
LOCATION:UUCC\, 70 Sycamore Drive\, Park Forest\, IL\, 60466\, United State
 s
GEO:41.463982;-87.669754
X-APPLE-STRUCTURED-LOCATION;VALUE=URI;X-ADDRESS=70 Sycamore Drive\, Park Fo
 rest\, IL\, 60466\, United States;X-APPLE-RADIUS=100;X-TITLE=UUCC:geo:41.4
 63982,-87.669754
END:VEVENT
END:VCALENDAR