BEGIN:VCALENDAR
VERSION:2.0
PRODID:-//wp-events-plugin.com//7.2.3.1//EN
TZID:America/Chicago
X-WR-TIMEZONE:America/Chicago
BEGIN:VEVENT
UID:1654@uuccpf.org
DTSTART:20170108T113000Z
DTEND:20170108T123000Z
DTSTAMP:20161227T044815Z
URL:https://www.uuccpf.org/events/jan-8th-indivisible-with-jerome-rowley/
SUMMARY:Jan. 8th – Indivisible with Jerome Rowley
DESCRIPTION:Jan. 8th – Indivisible with Jerome Rowley\nA discussion of a 
 political primer for resisting the Trump Administration. Learn how to be 
 effective at the local political level in resisting the legislation that t
 he Republican administration and Congress may try to pass.\n\nThe “adult
  forum” isn’t technically restricted to adults\, its just that kids ge
 t bored listening to adults talk about spiritual stuff\, art\, current eve
 nts\, the environment\, technology\, other religions\, and this\, and that
 \, and the other thing. The “Forum” meets after the service at approxi
 mately 11:30am every Sunday (except for the first Sunday of every month wh
 en we have our Community Potluck). The Forum is about something different 
 every time.\n
LOCATION:UUCC\, 70 Sycamore Drive\, Park Forest\, IL\, 60466\, United State
 s
GEO:41.463982;-87.669754
X-APPLE-STRUCTURED-LOCATION;VALUE=URI;X-ADDRESS=70 Sycamore Drive\, Park Fo
 rest\, IL\, 60466\, United States;X-APPLE-RADIUS=100;X-TITLE=UUCC:geo:41.4
 63982,-87.669754
END:VEVENT
END:VCALENDAR