BEGIN:VCALENDAR
VERSION:2.0
PRODID:-//wp-events-plugin.com//7.2.3.1//EN
TZID:America/Chicago
X-WR-TIMEZONE:America/Chicago
BEGIN:VEVENT
UID:2012@uuccpf.org
DTSTART:20170507T100000Z
DTEND:20170507T111500Z
DTSTAMP:20170426T233634Z
URL:https://www.uuccpf.org/events/its-a-beautiful-day-in-the-neighborhood-
 the-theology-of-fred-rogers/
SUMMARY:It's a Beautiful Day in the Neighborhood: The Theology of Fred Roge
 rs by Rev. Denise Tracy
DESCRIPTION:May 7th\n\nTitle: It's a Beautiful Day in the Neighborhood: The
  Theology of Fred Rogers\n\nBy Reverend Denise Tracy\n\nWhere your cardiga
 n sweater...if you have one. We will talk about the lasting legacy of Fred
  Rogers.\n\n&nbsp\;
CATEGORIES:Sunday Services
LOCATION:UUCC\, 70 Sycamore Drive\, Park Forest\, IL\, 60466\, United State
 s
GEO:41.463982;-87.669754
X-APPLE-STRUCTURED-LOCATION;VALUE=URI;X-ADDRESS=70 Sycamore Drive\, Park Fo
 rest\, IL\, 60466\, United States;X-APPLE-RADIUS=100;X-TITLE=UUCC:geo:41.4
 63982,-87.669754
END:VEVENT
END:VCALENDAR