BEGIN:VCALENDAR
VERSION:2.0
PRODID:-//wp-events-plugin.com//7.2.3.1//EN
TZID:America/Chicago
X-WR-TIMEZONE:America/Chicago
BEGIN:VEVENT
UID:2727@uuccpf.org
DTSTART:20181021T113000Z
DTEND:20181021T123000Z
DTSTAMP:20180928T205832Z
URL:https://www.uuccpf.org/events/forum-get-involved-in-the-upcoming-elect
 ions-with-keith-bell-indivisible-illinois/
SUMMARY:Forum:  Get Involved in the Upcoming Elections with Keith Bell\, In
 divisible Illinois
DESCRIPTION:Oct 21st - Get Involved in the Upcoming Elections with Keith Be
 ll\, Indivisible Illinois\n\nHow can you help enact change through the dem
 ocratic process?  Keith Bell\, Indivisible Illinois\, Legislative Issues 
 Lead will discuss opportunities to make a real difference this fall.\n\n&n
 bsp\;
LOCATION:Trinity Lutheran Church\, 2901 Western Ave\, Park Forest\, IL\, Un
 ited States
GEO:41.486937;-87.67361499999998
X-APPLE-STRUCTURED-LOCATION;VALUE=URI;X-ADDRESS=2901 Western Ave\, Park For
 est\, IL\, United States;X-APPLE-RADIUS=100;X-TITLE=Trinity Lutheran Churc
 h:geo:41.486937,-87.67361499999998
END:VEVENT
END:VCALENDAR