BEGIN:VCALENDAR
VERSION:2.0
PRODID:-//wp-events-plugin.com//7.2.3.1//EN
TZID:America/Chicago
X-WR-TIMEZONE:America/Chicago
BEGIN:VEVENT
UID:1481@uuccpf.org
DTSTART:20161023T113000Z
DTEND:20161023T123000Z
DTSTAMP:20160928T023427Z
URL:https://www.uuccpf.org/events/forum-2016-10-23/
SUMMARY:Forum
DESCRIPTION:The “adult forum” isn’t technically restricted to adults\
 , its just that kids get bored listening to adults talk about spiritual st
 uff\, art\, current events\, the environment\, technology\, other religion
 s\, and this\, and that\, and the other thing. The “Forum” meets after
  the service at approximately 11:30am every Sunday (except for the first S
 unday of every month when we have our Community Potluck). The Forum is abo
 ut something different every time.\n\nOctober 23rd:   Asset Based Commun
 ity\n\nDevelopment (ABCD) - Glen Barwegen\n\nABCD builds on the assets th
 at are already found in the community and mobilizes individuals\, associat
 ions\, and institutions to come together to build on their assets\; not co
 ncentrate on their needs.\n\n&nbsp\;
CATEGORIES:Ongoing
LOCATION:UUCC\, 70 Sycamore Drive\, Park Forest\, IL\, 60466\, United State
 s
GEO:41.463982;-87.669754
X-APPLE-STRUCTURED-LOCATION;VALUE=URI;X-ADDRESS=70 Sycamore Drive\, Park Fo
 rest\, IL\, 60466\, United States;X-APPLE-RADIUS=100;X-TITLE=UUCC:geo:41.4
 63982,-87.669754
END:VEVENT
END:VCALENDAR