BEGIN:VCALENDAR
VERSION:2.0
PRODID:-//wp-events-plugin.com//7.2.3.1//EN
TZID:America/Chicago
X-WR-TIMEZONE:America/Chicago
BEGIN:VEVENT
UID:3111@uuccpf.org
DTSTART:20190828T130000Z
DTEND:20190828T143000Z
DTSTAMP:20190729T195933Z
URL:https://www.uuccpf.org/events/connections-group-6/
SUMMARY:Connections Group
DESCRIPTION:Our Connections group seeks to provide opportunities for spirit
 ual growth and community building\, by strengthening relationships. Small 
 Group Ministry provides ways to live out our UU principles and to strength
 en the wider community through service projects. The group meets the 2nd a
 nd 4th Wednesday of every month\, from 1-2:30 pm at church. Come join us! 
 For more info\, contact: JoAnn Franczek 219/629-0815 or\n\nIrene vanderHo
 ek 708/305-4913  tulip51girl@gmail.com
LOCATION:UUCC\, 70 Sycamore Drive\, Park Forest\, IL\, 60466\, United State
 s
GEO:41.463982;-87.669754
X-APPLE-STRUCTURED-LOCATION;VALUE=URI;X-ADDRESS=70 Sycamore Drive\, Park Fo
 rest\, IL\, 60466\, United States;X-APPLE-RADIUS=100;X-TITLE=UUCC:geo:41.4
 63982,-87.669754
END:VEVENT
END:VCALENDAR