BEGIN:VCALENDAR
VERSION:2.0
PRODID:-//wp-events-plugin.com//7.2.3.1//EN
TZID:America/Chicago
X-WR-TIMEZONE:America/Chicago
BEGIN:VEVENT
UID:3646@uuccpf.org
DTSTART:20210417T190000Z
DTEND:20210417T210000Z
DTSTAMP:20210331T205453Z
URL:https://www.uuccpf.org/events/chicago-trivia-night-fundraiser-saturday
 -7-9-pm/
SUMMARY:Chicago Trivia Night FUNdraiser Saturday\, 7-9 pm
DESCRIPTION:Chicago Trivia Night FUNdraiser Saturday\, April 17th 7-9 pm\n\
 nJoin us for a fun night of Chicago trivia competition. Over 600 questions
  are waiting to challenge you. Topics will include Chicago history\, sport
 s and geography. Register online HERE as an individual\, as a team\, or as
  a spectator. All participants must register to receive the Zoom link for 
 this event. A $25 donation is suggested\, but you can pay as much (or as l
 ittle) as you prefer. Pay online using the donate button on the church web
 site or mail in a check with “Trivia Night” in the memo line. All regi
 strations and payments must be received by midnight\, April 13th.  Hope t
 o see you there!! (See flyer on next page).\n\n&nbsp\;
CATEGORIES:Spotlight
END:VEVENT
END:VCALENDAR