BEGIN:VCALENDAR
VERSION:2.0
PRODID:-//wp-events-plugin.com//7.2.3.1//EN
TZID:America/Chicago
X-WR-TIMEZONE:America/Chicago
BEGIN:VEVENT
UID:1613@uuccpf.org
DTSTART:20161030T100000Z
DTEND:20161030T113000Z
DTSTAMP:20160928T021640Z
URL:https://www.uuccpf.org/events/celebrating-samhain-by-nancy-irons/
SUMMARY:"Celebrating Samhain" by Nancy Irons
DESCRIPTION:October 30th\n\nTitle: "Celebrating Samhain"\n\nBy CUUPS  -  
 Nancy Irons\n\nThis is the Pagan New Year\; a time to give thanks for the 
 harvest\, and a time to honor ancestors who have gone before us. Everyone 
 is encouraged to wear Halloween costumes to the service.\n\n&nbsp\;
CATEGORIES:Sunday Services
LOCATION:UUCC\, 70 Sycamore Drive\, Park Forest\, IL\, 60466\, United State
 s
GEO:41.463982;-87.669754
X-APPLE-STRUCTURED-LOCATION;VALUE=URI;X-ADDRESS=70 Sycamore Drive\, Park Fo
 rest\, IL\, 60466\, United States;X-APPLE-RADIUS=100;X-TITLE=UUCC:geo:41.4
 63982,-87.669754
END:VEVENT
END:VCALENDAR